BEGIN:VCALENDAR
VERSION:2.0
PRODID:-//Tukios.com/
BEGIN:VEVENT
UID:81c58853-f008-4014-a57d-d8eaf8b94021@www.mackinnonfuneral.com
DTSTAMP:20260422T222917Z
DTSTART:20260502T180000Z
DTEND:20260502T210000Z
SUMMARY:Visitation
DESCRIPTION:
URL:https://www.mackinnonfuneral.com/obituaries/teri-levreault
LOCATION: 760 Washington Street  Whitman MA 02382
GEO:42.0853696;-70.94037
END:VEVENT
END:VCALENDAR