BEGIN:VCALENDAR
VERSION:2.0
PRODID:-//Tukios.com/
BEGIN:VEVENT
UID:f9dbdf9d-3126-4c86-adf2-906cbe1b95ce@www.mackinnonfuneral.com
DTSTAMP:20260422T223231Z
DTSTART:20260502T210000Z
DTEND:20260502T213000Z
SUMMARY:Celebration of Life
DESCRIPTION:
URL:https://www.mackinnonfuneral.com/obituaries/teri-levreault
LOCATION: 760 Washington Street  Whitman MA 02382
GEO:42.0853696;-70.94037
END:VEVENT
END:VCALENDAR